BEGIN:VCALENDAR
VERSION:2.0
PRODID:-//jEvents 2.0 for Joomla//EN
CALSCALE:GREGORIAN
METHOD:PUBLISH
BEGIN:VTIMEZONE
TZID:America/New_York
BEGIN:STANDARD
DTSTART:20121114T213000
RDATE:20130310T030000
TZOFFSETFROM:-0400
TZOFFSETTO:-0500
TZNAME:America/New_York EST
END:STANDARD
BEGIN:STANDARD
DTSTART:20131103T010000
RDATE:20140309T030000
TZOFFSETFROM:-0400
TZOFFSETTO:-0500
TZNAME:America/New_York EST
END:STANDARD
BEGIN:STANDARD
DTSTART:20141102T010000
RDATE:20150308T030000
TZOFFSETFROM:-0400
TZOFFSETTO:-0500
TZNAME:America/New_York EST
END:STANDARD
BEGIN:STANDARD
DTSTART:20151101T010000
RDATE:20160313T030000
TZOFFSETFROM:-0400
TZOFFSETTO:-0500
TZNAME:America/New_York EST
END:STANDARD
BEGIN:STANDARD
DTSTART:20161106T010000
RDATE:20170312T030000
TZOFFSETFROM:-0400
TZOFFSETTO:-0500
TZNAME:America/New_York EST
END:STANDARD
BEGIN:STANDARD
DTSTART:20171105T010000
RDATE:20180311T030000
TZOFFSETFROM:-0400
TZOFFSETTO:-0500
TZNAME:America/New_York EST
END:STANDARD
BEGIN:STANDARD
DTSTART:20181104T010000
RDATE:20190310T030000
TZOFFSETFROM:-0400
TZOFFSETTO:-0500
TZNAME:America/New_York EST
END:STANDARD
BEGIN:STANDARD
DTSTART:20191103T010000
RDATE:20200308T030000
TZOFFSETFROM:-0400
TZOFFSETTO:-0500
TZNAME:America/New_York EST
END:STANDARD
BEGIN:STANDARD
DTSTART:20201101T010000
RDATE:20210314T030000
TZOFFSETFROM:-0400
TZOFFSETTO:-0500
TZNAME:America/New_York EST
END:STANDARD
BEGIN:STANDARD
DTSTART:20211107T010000
RDATE:20220313T030000
TZOFFSETFROM:-0400
TZOFFSETTO:-0500
TZNAME:America/New_York EST
END:STANDARD
BEGIN:STANDARD
DTSTART:20221106T010000
RDATE:20230312T030000
TZOFFSETFROM:-0400
TZOFFSETTO:-0500
TZNAME:America/New_York EST
END:STANDARD
BEGIN:STANDARD
DTSTART:20231105T010000
RDATE:20240310T030000
TZOFFSETFROM:-0400
TZOFFSETTO:-0500
TZNAME:America/New_York EST
END:STANDARD
BEGIN:STANDARD
DTSTART:20241103T010000
RDATE:20250309T030000
TZOFFSETFROM:-0400
TZOFFSETTO:-0500
TZNAME:America/New_York EST
END:STANDARD
BEGIN:STANDARD
DTSTART:20251102T010000
RDATE:20260308T030000
TZOFFSETFROM:-0400
TZOFFSETTO:-0500
TZNAME:America/New_York EST
END:STANDARD
BEGIN:STANDARD
DTSTART:20261101T010000
RDATE:20270314T030000
TZOFFSETFROM:-0400
TZOFFSETTO:-0500
TZNAME:America/New_York EST
END:STANDARD
BEGIN:DAYLIGHT
DTSTART:20130310T030000
RDATE:20131103T010000
TZOFFSETFROM:-0500
TZOFFSETTO:-0400
TZNAME:America/New_York EDT
END:DAYLIGHT
BEGIN:DAYLIGHT
DTSTART:20140309T030000
RDATE:20141102T010000
TZOFFSETFROM:-0500
TZOFFSETTO:-0400
TZNAME:America/New_York EDT
END:DAYLIGHT
BEGIN:DAYLIGHT
DTSTART:20150308T030000
RDATE:20151101T010000
TZOFFSETFROM:-0500
TZOFFSETTO:-0400
TZNAME:America/New_York EDT
END:DAYLIGHT
BEGIN:DAYLIGHT
DTSTART:20160313T030000
RDATE:20161106T010000
TZOFFSETFROM:-0500
TZOFFSETTO:-0400
TZNAME:America/New_York EDT
END:DAYLIGHT
BEGIN:DAYLIGHT
DTSTART:20170312T030000
RDATE:20171105T010000
TZOFFSETFROM:-0500
TZOFFSETTO:-0400
TZNAME:America/New_York EDT
END:DAYLIGHT
BEGIN:DAYLIGHT
DTSTART:20180311T030000
RDATE:20181104T010000
TZOFFSETFROM:-0500
TZOFFSETTO:-0400
TZNAME:America/New_York EDT
END:DAYLIGHT
BEGIN:DAYLIGHT
DTSTART:20190310T030000
RDATE:20191103T010000
TZOFFSETFROM:-0500
TZOFFSETTO:-0400
TZNAME:America/New_York EDT
END:DAYLIGHT
BEGIN:DAYLIGHT
DTSTART:20200308T030000
RDATE:20201101T010000
TZOFFSETFROM:-0500
TZOFFSETTO:-0400
TZNAME:America/New_York EDT
END:DAYLIGHT
BEGIN:DAYLIGHT
DTSTART:20210314T030000
RDATE:20211107T010000
TZOFFSETFROM:-0500
TZOFFSETTO:-0400
TZNAME:America/New_York EDT
END:DAYLIGHT
BEGIN:DAYLIGHT
DTSTART:20220313T030000
RDATE:20221106T010000
TZOFFSETFROM:-0500
TZOFFSETTO:-0400
TZNAME:America/New_York EDT
END:DAYLIGHT
BEGIN:DAYLIGHT
DTSTART:20230312T030000
RDATE:20231105T010000
TZOFFSETFROM:-0500
TZOFFSETTO:-0400
TZNAME:America/New_York EDT
END:DAYLIGHT
BEGIN:DAYLIGHT
DTSTART:20240310T030000
RDATE:20241103T010000
TZOFFSETFROM:-0500
TZOFFSETTO:-0400
TZNAME:America/New_York EDT
END:DAYLIGHT
BEGIN:DAYLIGHT
DTSTART:20250309T030000
RDATE:20251102T010000
TZOFFSETFROM:-0500
TZOFFSETTO:-0400
TZNAME:America/New_York EDT
END:DAYLIGHT
BEGIN:DAYLIGHT
DTSTART:20260308T030000
RDATE:20261101T010000
TZOFFSETFROM:-0500
TZOFFSETTO:-0400
TZNAME:America/New_York EDT
END:DAYLIGHT
END:VTIMEZONE
BEGIN:VEVENT
UID:e47aa5b564692d3e2e84be4acfd9301f
CATEGORIES:Music & Performances
CREATED:20221221T112336
SUMMARY:Import From Zap Calendar 12212022 - Sophistafunk Returns to Thunder Road
URL;VALUE=URI:https://iloveoswego.com/5049/sophistafunk-returns-to-thunder-road.html?tmpl
 =component
DESCRIPTION:SOPHISTAFUNK met in 2007 and rapidly evolved into a national-touring live a
 ct. Known for their HUGE sound (created by only three members), the band ha
 s won over crowds with a captivating stage presence and tight musicianship.
  Rooted by old school funk / hip hop, the trio explores electronic dance gr
 ooves while infusing each tune with soul and positively charged lyrics. SOP
 HISTAFUNK is a multi-genre tour de force, jam packed with vintage tones and
  live instruments. Catch ONE show, and you will be hooked!  www.sophistafun
 kband.com  Want to spread the word about the show in exchange for a spot on
  our guest list? Email your current mailing address to lacey@bloomingfootpr
 int.com and she'll get you started!  Check out their video "Gotta Walk" fro
 m there new recently released cd/album" Freedom" right here! http://www.you
 tube.com/watch?v=z6l2WX-u49M&amp;list=FLkHKgG1mJGNMCPqXJ5jJ-ug&amp;index=4\
 n\n This event was imported from: https://iloveoswego.com/5049/sophistafunk
 -returns-to-thunder-road.html?tmpl=component (https://iloveoswego.com/5049/
 sophistafunk-returns-to-thunder-road.html?tmpl=component)
X-ALT-DESC;FMTTYPE=text/html:<p>SOPHISTAFUNK met in 2007 and rapidly evolved into a national-touring liv
 e act. Known for their HUGE sound (created by only three members), the band
  has won over crowds with a captivating stage presence and tight musiciansh
 ip. Rooted by old school funk / hip hop, the trio explores electronic dance
  grooves while infusing each tune with soul and positively charged lyrics. 
 SOPHISTAFUNK is a multi-genre tour de force, jam packed with vintage tones 
 and live instruments. Catch ONE show, and you will be hooked!  www.sophista
 funkband.com  Want to spread the word about the show in exchange for a spot
  on our guest list? Email your current mailing address to lacey@bloomingfoo
 tprint.com and she'll get you started!  Check out their video "Gotta Walk" 
 from there new recently released cd/album" Freedom" right here! <a href="ht
 tp://www.youtube.com/watch?v=z6l2WX-u49M&amp;list=FLkHKgG1mJGNMCPqXJ5jJ-ug&
 amp;index=4" target="_blank">http://www.youtube.com/watch?v=z6l2WX-u49M&amp
 ;list=FLkHKgG1mJGNMCPqXJ5jJ-ug&amp;index=4</a><br/></p> <a href="https://il
 oveoswego.com/5049/sophistafunk-returns-to-thunder-road.html?tmpl=component
 ">This event was imported from: https://iloveoswego.com/5049/sophistafunk-r
 eturns-to-thunder-road.html?tmpl=component</a>DTSTAMP:20260425T130028
DTSTART;TZID=America/New_York:20131115T213000
DTEND;TZID=America/New_York:20131116T013000
SEQUENCE:0
TRANSP:OPAQUE
END:VEVENT
END:VCALENDAR