BEGIN:VCALENDAR
VERSION:2.0
PRODID:-//jEvents 2.0 for Joomla//EN
CALSCALE:GREGORIAN
METHOD:PUBLISH
BEGIN:VTIMEZONE
TZID:America/New_York
BEGIN:STANDARD
DTSTART:20241103T010000
RDATE:20250309T030000
TZOFFSETFROM:-0400
TZOFFSETTO:-0500
TZNAME:America/New_York EST
END:STANDARD
BEGIN:STANDARD
DTSTART:20251102T010000
RDATE:20260308T030000
TZOFFSETFROM:-0400
TZOFFSETTO:-0500
TZNAME:America/New_York EST
END:STANDARD
BEGIN:STANDARD
DTSTART:20261101T010000
RDATE:20270314T030000
TZOFFSETFROM:-0400
TZOFFSETTO:-0500
TZNAME:America/New_York EST
END:STANDARD
BEGIN:DAYLIGHT
DTSTART:20240826T133000
RDATE:20241103T010000
TZOFFSETFROM:-0500
TZOFFSETTO:-0400
TZNAME:America/New_York EDT
END:DAYLIGHT
BEGIN:DAYLIGHT
DTSTART:20250309T030000
RDATE:20251102T010000
TZOFFSETFROM:-0500
TZOFFSETTO:-0400
TZNAME:America/New_York EDT
END:DAYLIGHT
BEGIN:DAYLIGHT
DTSTART:20260308T030000
RDATE:20261101T010000
TZOFFSETFROM:-0500
TZOFFSETTO:-0400
TZNAME:America/New_York EDT
END:DAYLIGHT
END:VTIMEZONE
BEGIN:VEVENT
UID:315b819e54a159ed8b2f4e29ff94124b
CATEGORIES:Health
CREATED:19691231T190000
SUMMARY:Default - Living Well with Chronic Disease Workshop (Registration Required)
LOCATION:ConnextCare Oswego\n120 E. 1st St.\nOswego\nNY\n13126\nUSA\n315-342-0880\nh
 ttps://www.connextcare.org/Oswego (https://www.connextcare.org/Oswego)
URL;VALUE=URI:https://iloveoswego.com/59259/living-well-with-chronic-disease-workshop-reg
 istration-required.html?tmpl=component
DESCRIPTION:The Oswego County Health Department is hosting its next “Living Well with C
 hronic Disease” workshop series.\nThe program is open to county residents.\
 nThe series helps people who live with or care for someone with a chronic d
 isease learn how to better manage their health. Chronic health conditions c
 overed in the class include high blood pressure, obesity, arthritis and kid
 ney disease. Participants will learn how to deal with issues such as fatigu
 e, pain, trouble breathing, stress and talking with a health care provider.
 \nEvery interactive workshop is facilitated by a trained lifestyle coach wh
 o encourages participants to connect with each other in a supportive enviro
 nment.\nTo register, call Zachary Kingsley at 315-349-3382 or visit  (https
 ://health.oswegocounty.com/)https://health.oswegocounty.com/ (https://healt
 h.oswegocounty.com/).\n This event was imported from: https://iloveoswego.c
 om/59259/living-well-with-chronic-disease-workshop-registration-required.ht
 ml?tmpl=component (https://iloveoswego.com/59259/living-well-with-chronic-d
 isease-workshop-registration-required.html?tmpl=component)
X-ALT-DESC;FMTTYPE=text/html:<p>The Oswego County Health Department is hosting its next “Living Well wit
 h Chronic Disease” workshop series.</p><p>The program is open to county res
 idents.</p><p>The series helps people who live with or care for someone wit
 h a chronic disease learn how to better manage their health. Chronic health
  conditions covered in the class include high blood pressure, obesity, arth
 ritis and kidney disease. Participants will learn how to deal with issues s
 uch as fatigue, pain, trouble breathing, stress and talking with a health c
 are provider.</p><p>Every interactive workshop is facilitated by a trained 
 lifestyle coach who encourages participants to connect with each other in a
  supportive environment.</p><p>To register, call Zachary Kingsley at 315-34
 9-3382 or visit <a href="https://health.oswegocounty.com/"></a><a href="htt
 ps://health.oswegocounty.com/">https://health.oswegocounty.com/</a>.</p> <a
  href="https://iloveoswego.com/59259/living-well-with-chronic-disease-works
 hop-registration-required.html?tmpl=component">This event was imported from
 : https://iloveoswego.com/59259/living-well-with-chronic-disease-workshop-r
 egistration-required.html?tmpl=component</a>DTSTAMP:20260425T185106
DTSTART;TZID=America/New_York:20250827T133000
DTEND;TZID=America/New_York:20250827T160000
SEQUENCE:0
RRULE:FREQ=WEEKLY;COUNT=6;INTERVAL=1;BYDAY=WE
TRANSP:OPAQUE
END:VEVENT
END:VCALENDAR