BEGIN:VCALENDAR
VERSION:2.0
PRODID:-//jEvents 2.0 for Joomla//EN
CALSCALE:GREGORIAN
METHOD:PUBLISH
BEGIN:VTIMEZONE
TZID:America/New_York
BEGIN:STANDARD
DTSTART:20241103T010000
RDATE:20250309T030000
TZOFFSETFROM:-0400
TZOFFSETTO:-0500
TZNAME:America/New_York EST
END:STANDARD
BEGIN:STANDARD
DTSTART:20251102T010000
RDATE:20260308T030000
TZOFFSETFROM:-0400
TZOFFSETTO:-0500
TZNAME:America/New_York EST
END:STANDARD
BEGIN:STANDARD
DTSTART:20261101T010000
RDATE:20270314T030000
TZOFFSETFROM:-0400
TZOFFSETTO:-0500
TZNAME:America/New_York EST
END:STANDARD
BEGIN:DAYLIGHT
DTSTART:20240831T170000
RDATE:20241103T010000
TZOFFSETFROM:-0500
TZOFFSETTO:-0400
TZNAME:America/New_York EDT
END:DAYLIGHT
BEGIN:DAYLIGHT
DTSTART:20250309T030000
RDATE:20251102T010000
TZOFFSETFROM:-0500
TZOFFSETTO:-0400
TZNAME:America/New_York EDT
END:DAYLIGHT
BEGIN:DAYLIGHT
DTSTART:20260308T030000
RDATE:20261101T010000
TZOFFSETFROM:-0500
TZOFFSETTO:-0400
TZNAME:America/New_York EDT
END:DAYLIGHT
END:VTIMEZONE
BEGIN:VEVENT
UID:231bc499567d25dac345ed3111059b32
CATEGORIES:Community
CREATED:19691231T190000
SUMMARY:Default - North Shore Indivisible Rally
LOCATION:Corner of Route 49 and Route 37\nRoute 49 and Route 37 Intersection\nWest M
 onroe\nNY\n13036\nUSA
URL;VALUE=URI:https://iloveoswego.com/59516/north-shore-indivisible-rally.html?tmpl=compo
 nent
DESCRIPTION:For more information, please contact Kate and Brenda at North Shore Indivis
 ible: northshoreindivisible24@gmail.com (mailto:northshoreindivisible24@gma
 il.com).\n This event was imported from: https://iloveoswego.com/59516/nort
 h-shore-indivisible-rally.html?tmpl=component
X-ALT-DESC;FMTTYPE=text/html:<p>For more information, please contact Kate and Brenda at North Shore Indi
 visible:&nbsp;<a href="mailto:northshoreindivisible24@gmail.com">northshore
 indivisible24@gmail.com</a>.</p> <a href="https://iloveoswego.com/59516/nor
 th-shore-indivisible-rally.html?tmpl=component">This event was imported fro
 m: https://iloveoswego.com/59516/north-shore-indivisible-rally.html?tmpl=co
 mponent</a>DTSTAMP:20260419T173456
DTSTART;TZID=America/New_York:20250901T170000
SEQUENCE:0
RRULE:FREQ=WEEKLY;UNTIL=20260208T000000Z;INTERVAL=1;BYDAY=MO
EXDATE;TZID=America/New_York:20251215T170000,20251222T170000,20251229T170000,20260105T170000,20260112T17
 0000,20260119T170000,20260126T170000,20260202T170000
TRANSP:OPAQUE
END:VEVENT
END:VCALENDAR