BEGIN:VCALENDAR
VERSION:2.0
PRODID:-//jEvents 2.0 for Joomla//EN
CALSCALE:GREGORIAN
METHOD:PUBLISH
BEGIN:VTIMEZONE
TZID:America/New_York
BEGIN:STANDARD
DTSTART:20241121T090000
RDATE:20250309T030000
TZOFFSETFROM:-0400
TZOFFSETTO:-0500
TZNAME:America/New_York EST
END:STANDARD
BEGIN:STANDARD
DTSTART:20251102T010000
RDATE:20260308T030000
TZOFFSETFROM:-0400
TZOFFSETTO:-0500
TZNAME:America/New_York EST
END:STANDARD
BEGIN:STANDARD
DTSTART:20261101T010000
RDATE:20270314T030000
TZOFFSETFROM:-0400
TZOFFSETTO:-0500
TZNAME:America/New_York EST
END:STANDARD
BEGIN:DAYLIGHT
DTSTART:20250309T030000
RDATE:20251102T010000
TZOFFSETFROM:-0500
TZOFFSETTO:-0400
TZNAME:America/New_York EDT
END:DAYLIGHT
BEGIN:DAYLIGHT
DTSTART:20260308T030000
RDATE:20261101T010000
TZOFFSETFROM:-0500
TZOFFSETTO:-0400
TZNAME:America/New_York EDT
END:DAYLIGHT
END:VTIMEZONE
BEGIN:VEVENT
UID:b6f8546f1ec627ca7ec1dd19879c74fd
CATEGORIES:Health, Frontpage Events, Free
CREATED:20251015T215835
SUMMARY:Default - Healthcare Fair (Oswego)
LOCATION:McCrobie Civic Building
URL;VALUE=URI:https://iloveoswego.com/59969/healthcare-fair-oswego.html?tmpl=component
DESCRIPTION:After a successful Oswego Senior Fair, State Senator Chris Ryan's office is
  happy to introduce a new event series for Oswego constituents. \nOne recur
 ring issue brought to our attention by constituents in Oswego County is tha
 t access to healthcare resources is sparse at best and inaccessible at wors
 t. We decided to address that problem head-on by creating an event series t
 hat would bring together organizations and providers across our district an
 d directly reach residents of Oswego. Vendors will include agencies, provid
 ers, and non-profits, helping constituents identify where to go next for th
 eir healthcare needs.\n This event was imported from: https://iloveoswego.c
 om/59969/healthcare-fair-oswego.html?tmpl=component (https://iloveoswego.co
 m/59969/healthcare-fair-oswego.html?tmpl=component)
X-ALT-DESC;FMTTYPE=text/html:<p>After a successful Oswego Senior Fair, State Senator Chris Ryan's office
  is happy to introduce a new event series for Oswego constituents.&nbsp;</p
 ><p>One recurring issue brought to our attention by constituents in Oswego 
 County is that access to healthcare resources is sparse at best and inacces
 sible at worst. We decided to address that problem head-on by creating an e
 vent series that would bring together organizations and providers across ou
 r district and directly reach residents of Oswego. Vendors will include age
 ncies, providers, and non-profits, helping constituents identify where to g
 o next for their healthcare needs.</p> <a href="https://iloveoswego.com/599
 69/healthcare-fair-oswego.html?tmpl=component">This event was imported from
 : https://iloveoswego.com/59969/healthcare-fair-oswego.html?tmpl=component<
 /a>DTSTAMP:20260425T140924
DTSTART;TZID=America/New_York:20251122T090000
DTEND;TZID=America/New_York:20251122T130000
SEQUENCE:0
TRANSP:OPAQUE
END:VEVENT
END:VCALENDAR