BEGIN:VCALENDAR
VERSION:2.0
PRODID:-//jEvents 2.0 for Joomla//EN
CALSCALE:GREGORIAN
METHOD:PUBLISH
BEGIN:VTIMEZONE
TZID:America/New_York
BEGIN:STANDARD
DTSTART:20241103T010000
RDATE:20250309T030000
TZOFFSETFROM:-0400
TZOFFSETTO:-0500
TZNAME:America/New_York EST
END:STANDARD
BEGIN:STANDARD
DTSTART:20251102T010000
RDATE:20260308T030000
TZOFFSETFROM:-0400
TZOFFSETTO:-0500
TZNAME:America/New_York EST
END:STANDARD
BEGIN:STANDARD
DTSTART:20261101T010000
RDATE:20270314T030000
TZOFFSETFROM:-0400
TZOFFSETTO:-0500
TZNAME:America/New_York EST
END:STANDARD
BEGIN:DAYLIGHT
DTSTART:20241028T153000
RDATE:20241103T010000
TZOFFSETFROM:-0500
TZOFFSETTO:-0400
TZNAME:America/New_York EDT
END:DAYLIGHT
BEGIN:DAYLIGHT
DTSTART:20250309T030000
RDATE:20251102T010000
TZOFFSETFROM:-0500
TZOFFSETTO:-0400
TZNAME:America/New_York EDT
END:DAYLIGHT
BEGIN:DAYLIGHT
DTSTART:20260308T030000
RDATE:20261101T010000
TZOFFSETFROM:-0500
TZOFFSETTO:-0400
TZNAME:America/New_York EDT
END:DAYLIGHT
END:VTIMEZONE
BEGIN:VEVENT
UID:b86e252f528da3e3d3d0e8e3c4537aa2
CATEGORIES:Community, Culture and The Arts
CREATED:20251021T111340
SUMMARY:Default - Arts, Culture, and American Democracy
LOCATION:Marano Campus Center @ SUNY-Oswego
URL;VALUE=URI:https://iloveoswego.com/60040/arts-culture-and-american-democracy.html?tmpl
 =component
DESCRIPTION:Moderated by Director of Arts Programming, Lowell Hutcheson, this upcoming 
 Civic Discourse Series discussion on Arts, Culture and American Democracy f
 eatures panelists Davana Robedee (Director, Tyler Art Gallery), Laura Donne
 lly (Professor and Chair, Department of English and Creative Writing), Dani
 elle Hodgins (Assistant Professor, Theatre Department), and Michael Raicht 
 (Assistant Professor, Department of English and Creative Writing). The grou
 p will discuss the role of the arts in shaping, critiquing and influencing 
 American culture and politics, as well as the state of the arts in the curr
 ent political climate.\n\nThis conversation will be offered both in person 
 and via Zoom.\nFree and open to all. \nMarano Campus Center, Room 114.  Thi
 s event was imported from: https://iloveoswego.com/60040/arts-culture-and-a
 merican-democracy.html?tmpl=component (https://iloveoswego.com/60040/arts-c
 ulture-and-american-democracy.html?tmpl=component)
X-ALT-DESC;FMTTYPE=text/html:Moderated by Director of Arts Programming, Lowell Hutcheson, this upcoming 
 Civic Discourse Series discussion on Arts, Culture and American Democracy f
 eatures panelists Davana Robedee (Director, Tyler Art Gallery), Laura Donne
 lly (Professor and Chair, Department of English and Creative Writing), Dani
 elle Hodgins (Assistant Professor, Theatre Department), and Michael Raicht 
 (Assistant Professor, Department of English and Creative Writing). The grou
 p will discuss the role of the arts in shaping, critiquing and influencing 
 American culture and politics, as well as the state of the arts in the curr
 ent political climate.<br /><br />This conversation will be offered both in
  person and via Zoom.<br />Free and open to all. <br />Marano Campus Center
 , Room 114.  <a href="https://iloveoswego.com/60040/arts-culture-and-americ
 an-democracy.html?tmpl=component">This event was imported from: https://ilo
 veoswego.com/60040/arts-culture-and-american-democracy.html?tmpl=component<
 /a>DTSTAMP:20260422T072455
DTSTART;TZID=America/New_York:20251029T153000
DTEND;TZID=America/New_York:20251029T170000
SEQUENCE:0
TRANSP:OPAQUE
END:VEVENT
END:VCALENDAR