BEGIN:VCALENDAR
VERSION:2.0
PRODID:-//jEvents 2.0 for Joomla//EN
CALSCALE:GREGORIAN
METHOD:PUBLISH
BEGIN:VTIMEZONE
TZID:America/New_York
BEGIN:STANDARD
DTSTART:20241105T190000
RDATE:20250309T030000
TZOFFSETFROM:-0400
TZOFFSETTO:-0500
TZNAME:America/New_York EST
END:STANDARD
BEGIN:STANDARD
DTSTART:20251102T010000
RDATE:20260308T030000
TZOFFSETFROM:-0400
TZOFFSETTO:-0500
TZNAME:America/New_York EST
END:STANDARD
BEGIN:STANDARD
DTSTART:20261101T010000
RDATE:20270314T030000
TZOFFSETFROM:-0400
TZOFFSETTO:-0500
TZNAME:America/New_York EST
END:STANDARD
BEGIN:DAYLIGHT
DTSTART:20250309T030000
RDATE:20251102T010000
TZOFFSETFROM:-0500
TZOFFSETTO:-0400
TZNAME:America/New_York EDT
END:DAYLIGHT
BEGIN:DAYLIGHT
DTSTART:20260308T030000
RDATE:20261101T010000
TZOFFSETFROM:-0500
TZOFFSETTO:-0400
TZNAME:America/New_York EDT
END:DAYLIGHT
END:VTIMEZONE
BEGIN:VEVENT
UID:3a17825c6f1f8112413b518da818da7a
CATEGORIES:Community, Culture and The Arts, SUNY Oswego
CREATED:20251021T111839
SUMMARY:Default - Filmmaker: Michael A. Morris
LOCATION:Marano Campus Center @ SUNY-Oswego
URL;VALUE=URI:https://iloveoswego.com/60043/filmmaker-michael-a-morris.html?tmpl=componen
 t
DESCRIPTION:Join the Department of Cinema and Screen Studies for a 16mm film screening 
 and discussion with filmmaker Michael A. Morris! This is an exciting opport
 unity for all film enthusiasts to learn from a working filmmaker.\n\nMichae
 l A. Morris is an artist and educator based in Granville, Ohio. His work re
 sponds to the rapid changes in how moving images are created and experience
 d in the 21st century, affirming the traditional space of experiencing cine
 ma while also exploring the implications of new media. Morris has performed
  and screened his films and videos atmuseums, galleries, microcinemas, and 
 film festivals internationally, including Crossroads at The San Francisco M
 useum of Modern Art, Media Live at Boulder Museumof Contemporary Art, The I
 nternational Symposium of Electronic Art in Vancouver, Microscope Gallery, 
 Istanbul International Experimental Film Festival, The Ann Arbor Film Festi
 val, and Artist's Television Access.\n\nHe received a Kodak award from Flor
 ida Experimental Film and Video Festival for his performance A Chorus of Bl
 ack Voids Sings in Rays of Unseeable Light, and his film BlueMovie won awar
 ds from Southern Colorado Film Festival, Haverhill Film Festival, and Athen
 s International Film and Video Festival and was also included as part of An
 n Arbor Film Festival's touring program in 2018, which was screened interna
 tionally.\n\nThis event is free and open to all. \nMarano Campus Center, Au
 ditorium (Room 132)\n This event was imported from: https://iloveoswego.com
 /60043/filmmaker-michael-a-morris.html?tmpl=component (https://iloveoswego.
 com/60043/filmmaker-michael-a-morris.html?tmpl=component)
X-ALT-DESC;FMTTYPE=text/html:<p>Join the Department of Cinema and Screen Studies for a 16mm film screeni
 ng and discussion with filmmaker Michael A. Morris! This is an exciting opp
 ortunity for all film enthusiasts to learn from a working filmmaker.<br /><
 br />Michael A. Morris is an artist and educator based in Granville, Ohio. 
 His work responds to the rapid changes in how moving images are created and
  experienced in the 21st century, affirming the traditional space of experi
 encing cinema while also exploring the implications of new media. Morris ha
 s performed and screened his films and videos atmuseums, galleries, microci
 nemas, and film festivals internationally, including Crossroads at The San 
 Francisco Museum of Modern Art, Media Live at Boulder Museumof Contemporary
  Art, The International Symposium of Electronic Art in Vancouver, Microscop
 e Gallery, Istanbul International Experimental Film Festival, The Ann Arbor
  Film Festival, and Artist's Television Access.<br /><br />He received a Ko
 dak award from Florida Experimental Film and Video Festival for his perform
 ance A Chorus of Black Voids Sings in Rays of Unseeable Light, and his film
  BlueMovie won awards from Southern Colorado Film Festival, Haverhill Film 
 Festival, and Athens International Film and Video Festival and was also inc
 luded as part of Ann Arbor Film Festival's touring program in 2018, which w
 as screened internationally.<br /><br />This event is free and open to all.
  <br />Marano Campus Center, Auditorium (Room 132)</p> <a href="https://ilo
 veoswego.com/60043/filmmaker-michael-a-morris.html?tmpl=component">This eve
 nt was imported from: https://iloveoswego.com/60043/filmmaker-michael-a-mor
 ris.html?tmpl=component</a>DTSTAMP:20260421T114456
DTSTART;TZID=America/New_York:20251106T190000
SEQUENCE:0
TRANSP:OPAQUE
END:VEVENT
END:VCALENDAR