BEGIN:VCALENDAR
VERSION:2.0
PRODID:-//jEvents 2.0 for Joomla//EN
CALSCALE:GREGORIAN
METHOD:PUBLISH
BEGIN:VTIMEZONE
TZID:America/New_York
BEGIN:STANDARD
DTSTART:20241114T140000
RDATE:20250309T030000
TZOFFSETFROM:-0400
TZOFFSETTO:-0500
TZNAME:America/New_York EST
END:STANDARD
BEGIN:STANDARD
DTSTART:20251102T010000
RDATE:20260308T030000
TZOFFSETFROM:-0400
TZOFFSETTO:-0500
TZNAME:America/New_York EST
END:STANDARD
BEGIN:STANDARD
DTSTART:20261101T010000
RDATE:20270314T030000
TZOFFSETFROM:-0400
TZOFFSETTO:-0500
TZNAME:America/New_York EST
END:STANDARD
BEGIN:DAYLIGHT
DTSTART:20250309T030000
RDATE:20251102T010000
TZOFFSETFROM:-0500
TZOFFSETTO:-0400
TZNAME:America/New_York EDT
END:DAYLIGHT
BEGIN:DAYLIGHT
DTSTART:20260308T030000
RDATE:20261101T010000
TZOFFSETFROM:-0500
TZOFFSETTO:-0400
TZNAME:America/New_York EDT
END:DAYLIGHT
END:VTIMEZONE
BEGIN:VEVENT
UID:a7e16882ee3b1eb9084831efad594c85
CATEGORIES:Community
CREATED:19691231T190000
SUMMARY:Default - The Grown Ups
LOCATION:Tyler Hall @ SUNY Oswego\nSweet Road\nOswego\nNY\n13126\nUSA
URL;VALUE=URI:https://iloveoswego.com/60050/the-grown-ups.html?tmpl=component
DESCRIPTION:Following a group of camp counselors trying to mold the leaders of tomorrow
  when tomorrow is looking bleaker and bleaker, "The Grown Ups" explores the
  traditions that change us, what it takes for us to change them, and how to
  change yourself when you're hopelessly, tragically, not prepared for this.
 \n\nWritten by Simon Henriques and Skylar Fox\nDirected by Ian Katz\n\nThe 
 run time for this play is 100 minutes with no intermission.\n\nTickets for 
 this performance can be purchased at: https://oswego.universitytickets.com/
 w/event.aspx?id=9726&amp;p=1 This event was imported from: https://iloveosw
 ego.com/60050/the-grown-ups.html?tmpl=component (https://iloveoswego.com/60
 050/the-grown-ups.html?tmpl=component)
X-ALT-DESC;FMTTYPE=text/html:Following a group of camp counselors trying to mold the leaders of tomorrow
  when tomorrow is looking bleaker and bleaker, "The Grown Ups" explores the
  traditions that change us, what it takes for us to change them, and how to
  change yourself when you're hopelessly, tragically, not prepared for this.
 <br /><br />Written by Simon Henriques and Skylar Fox<br />Directed by Ian 
 Katz<br /><br />The run time for this play is 100 minutes with no intermiss
 ion.<br /><br />Tickets for this performance can be purchased at: https://o
 swego.universitytickets.com/w/event.aspx?id=9726&p=1 <a href="https://ilove
 oswego.com/60050/the-grown-ups.html?tmpl=component">This event was imported
  from: https://iloveoswego.com/60050/the-grown-ups.html?tmpl=component</a>DTSTAMP:20260420T192046
DTSTART;TZID=America/New_York:20251115T140000
DTEND;TZID=America/New_York:20251115T153000
SEQUENCE:0
RRULE:FREQ=DAILY;UNTIL=20251117T000000Z;INTERVAL=1
TRANSP:OPAQUE
END:VEVENT
END:VCALENDAR