BEGIN:VCALENDAR
VERSION:2.0
PRODID:-//jEvents 2.0 for Joomla//EN
CALSCALE:GREGORIAN
METHOD:PUBLISH
BEGIN:VTIMEZONE
TZID:America/New_York
BEGIN:STANDARD
DTSTART:20241106T100000
RDATE:20250309T030000
TZOFFSETFROM:-0400
TZOFFSETTO:-0500
TZNAME:America/New_York EST
END:STANDARD
BEGIN:STANDARD
DTSTART:20251102T010000
RDATE:20260308T030000
TZOFFSETFROM:-0400
TZOFFSETTO:-0500
TZNAME:America/New_York EST
END:STANDARD
BEGIN:STANDARD
DTSTART:20261101T010000
RDATE:20270314T030000
TZOFFSETFROM:-0400
TZOFFSETTO:-0500
TZNAME:America/New_York EST
END:STANDARD
BEGIN:DAYLIGHT
DTSTART:20250309T030000
RDATE:20251102T010000
TZOFFSETFROM:-0500
TZOFFSETTO:-0400
TZNAME:America/New_York EDT
END:DAYLIGHT
BEGIN:DAYLIGHT
DTSTART:20260308T030000
RDATE:20261101T010000
TZOFFSETFROM:-0500
TZOFFSETTO:-0400
TZNAME:America/New_York EDT
END:DAYLIGHT
END:VTIMEZONE
BEGIN:VEVENT
UID:ab4abef3c44e7c80d7549cb648b688c0
CATEGORIES:Community, Culture and The Arts
CREATED:20251021T113239
SUMMARY:Default - Oswego Empty Bowls Fundraiser Glaze-a-Thon
LOCATION:Tyler Hall @ SUNY Oswego
URL;VALUE=URI:https://iloveoswego.com/60056/oswego-empty-bowls-fundraiser-glaze-a-thon.ht
 ml?tmpl=component
DESCRIPTION:The SUNY Oswego Clay Club needs your help! Whether you’re a community membe
 r, student, staff, or faculty member, you're invited you to the ceramics st
 udio (Tyler Hall, Room 128) on Friday, November 7 from 10 a.m. to 8 p.m. fo
 r our annual Glaze-a-Thon. Drop in anytime on those days—every bit of help 
 counts! No experience needed to participate! \n\nThe annual Oswego Empty Bo
 wls fundraiser benefits Human Concerns, a non-profit emergency food pantry 
 in Oswego, and SHOP, the student pantry at our campus. \n\nOn November 14, 
 from 12 p.m. to 6 p.m., these handmade bowls will be on sale in Tyler Hall 
 Lobby. It’s never too early for holiday shopping, and these handmade bowls 
 make wonderful, meaningful gifts! If you have handmade bowls to donate or w
 ould like to bring canned food or non-perishable items, feel free to bring 
 them to the event. Both SHOP and Human Concerns will have tables set up. Th
 is event was imported from: https://iloveoswego.com/60056/oswego-empty-bowl
 s-fundraiser-glaze-a-thon.html?tmpl=component (https://iloveoswego.com/6005
 6/oswego-empty-bowls-fundraiser-glaze-a-thon.html?tmpl=component)
X-ALT-DESC;FMTTYPE=text/html:The SUNY Oswego Clay Club needs your help! Whether you’re a community membe
 r, student, staff, or faculty member, you're invited you to the ceramics st
 udio (Tyler Hall, Room 128) on Friday, November 7 from 10 a.m. to 8 p.m. fo
 r our annual Glaze-a-Thon. Drop in anytime on those days—every bit of help 
 counts! No experience needed to participate! <br /><br />The annual Oswego 
 Empty Bowls fundraiser benefits Human Concerns, a non-profit emergency food
  pantry in Oswego, and SHOP, the student pantry at our campus. <br /><br />
 On November 14, from 12 p.m. to 6 p.m., these handmade bowls will be on sal
 e in Tyler Hall Lobby. It’s never too early for holiday shopping, and these
  handmade bowls make wonderful, meaningful gifts! If you have handmade bowl
 s to donate or would like to bring canned food or non-perishable items, fee
 l free to bring them to the event. Both SHOP and Human Concerns will have t
 ables set up. <a href="https://iloveoswego.com/60056/oswego-empty-bowls-fun
 draiser-glaze-a-thon.html?tmpl=component">This event was imported from: htt
 ps://iloveoswego.com/60056/oswego-empty-bowls-fundraiser-glaze-a-thon.html?
 tmpl=component</a>DTSTAMP:20260424T161141
DTSTART;TZID=America/New_York:20251107T100000
DTEND;TZID=America/New_York:20251107T200000
SEQUENCE:0
TRANSP:OPAQUE
END:VEVENT
END:VCALENDAR