BEGIN:VCALENDAR
VERSION:2.0
PRODID:-//jEvents 2.0 for Joomla//EN
CALSCALE:GREGORIAN
METHOD:PUBLISH
BEGIN:VTIMEZONE
TZID:America/New_York
BEGIN:STANDARD
DTSTART:20241103T010000
RDATE:20250309T030000
TZOFFSETFROM:-0400
TZOFFSETTO:-0500
TZNAME:America/New_York EST
END:STANDARD
BEGIN:STANDARD
DTSTART:20251102T010000
RDATE:20260308T030000
TZOFFSETFROM:-0400
TZOFFSETTO:-0500
TZNAME:America/New_York EST
END:STANDARD
BEGIN:STANDARD
DTSTART:20261101T010000
RDATE:20270314T030000
TZOFFSETFROM:-0400
TZOFFSETTO:-0500
TZNAME:America/New_York EST
END:STANDARD
BEGIN:DAYLIGHT
DTSTART:20241028T193000
RDATE:20241103T010000
TZOFFSETFROM:-0500
TZOFFSETTO:-0400
TZNAME:America/New_York EDT
END:DAYLIGHT
BEGIN:DAYLIGHT
DTSTART:20250309T030000
RDATE:20251102T010000
TZOFFSETFROM:-0500
TZOFFSETTO:-0400
TZNAME:America/New_York EDT
END:DAYLIGHT
BEGIN:DAYLIGHT
DTSTART:20260308T030000
RDATE:20261101T010000
TZOFFSETFROM:-0500
TZOFFSETTO:-0400
TZNAME:America/New_York EDT
END:DAYLIGHT
END:VTIMEZONE
BEGIN:VEVENT
UID:d08b548915e11e7d04e06feba8f1d4cc
CATEGORIES:Community, Culture and The Arts, Music & Performances
CREATED:20251021T113517
SUMMARY:Default - Focus on Faculty Concert: Rob Auler, Trevor Jorgensen, and Ben May
LOCATION:Hewitt Hall @ SUNY Oswego
URL;VALUE=URI:https://iloveoswego.com/60059/focus-on-faculty-concert-rob-auler-trevor-jor
 gensen-and-ben-may.html?tmpl=component
DESCRIPTION:Join the Music Department for the second Focus on Faculty concert of the ye
 ar! This will be a collaborative concert featuring masterworks of vocal and
  wind literature, featuring SUNY Oswego professors Rob Auler (paino), Trevo
 r Jorgensen (clarinet), and Ben May (voice). \n\nThis performance is free a
 nd open to all. \nHewitt Hall, Ballroom This event was imported from: https
 ://iloveoswego.com/60059/focus-on-faculty-concert-rob-auler-trevor-jorgense
 n-and-ben-may.html?tmpl=component (https://iloveoswego.com/60059/focus-on-f
 aculty-concert-rob-auler-trevor-jorgensen-and-ben-may.html?tmpl=component)
X-ALT-DESC;FMTTYPE=text/html:Join the Music Department for the second Focus on Faculty concert of the ye
 ar! This will be a collaborative concert featuring masterworks of vocal and
  wind literature, featuring SUNY Oswego professors Rob Auler (paino), Trevo
 r Jorgensen (clarinet), and Ben May (voice). <br /><br />This performance i
 s free and open to all. <br />Hewitt Hall, Ballroom <a href="https://iloveo
 swego.com/60059/focus-on-faculty-concert-rob-auler-trevor-jorgensen-and-ben
 -may.html?tmpl=component">This event was imported from: https://iloveoswego
 .com/60059/focus-on-faculty-concert-rob-auler-trevor-jorgensen-and-ben-may.
 html?tmpl=component</a>DTSTAMP:20260422T230410
DTSTART;TZID=America/New_York:20251029T193000
SEQUENCE:0
TRANSP:OPAQUE
END:VEVENT
END:VCALENDAR