BEGIN:VCALENDAR
VERSION:2.0
PRODID:-//jEvents 2.0 for Joomla//EN
CALSCALE:GREGORIAN
METHOD:PUBLISH
BEGIN:VTIMEZONE
TZID:America/New_York
BEGIN:STANDARD
DTSTART:20241115T110000
RDATE:20250309T030000
TZOFFSETFROM:-0400
TZOFFSETTO:-0500
TZNAME:America/New_York EST
END:STANDARD
BEGIN:STANDARD
DTSTART:20251102T010000
RDATE:20260308T030000
TZOFFSETFROM:-0400
TZOFFSETTO:-0500
TZNAME:America/New_York EST
END:STANDARD
BEGIN:STANDARD
DTSTART:20261101T010000
RDATE:20270314T030000
TZOFFSETFROM:-0400
TZOFFSETTO:-0500
TZNAME:America/New_York EST
END:STANDARD
BEGIN:DAYLIGHT
DTSTART:20250309T030000
RDATE:20251102T010000
TZOFFSETFROM:-0500
TZOFFSETTO:-0400
TZNAME:America/New_York EDT
END:DAYLIGHT
BEGIN:DAYLIGHT
DTSTART:20260308T030000
RDATE:20261101T010000
TZOFFSETFROM:-0500
TZOFFSETTO:-0400
TZNAME:America/New_York EDT
END:DAYLIGHT
END:VTIMEZONE
BEGIN:VEVENT
UID:d0dc173a0460ed03ddc17dbbf5adbac5
CATEGORIES:Frontpage Events, Shopping, Crafting
CREATED:20251027T083606
SUMMARY:Default - Holiday Craft Show (Fulton)
LOCATION:Fulton Elks Lodge
URL;VALUE=URI:https://iloveoswego.com/60066/holiday-craft-show-fulton.html?tmpl=component
DESCRIPTION:<p>20+ crafters and vendors<br />50-50 and raffles<br />Music by Bryan Syre
 ll (1-3)<br />Fairy Hair (hair tinsel)<br />Face painting<br />Kids, crafts
 , and games<br />Delicious food and drink</p> <a href="https://iloveoswego.
 com/60066/holiday-craft-show-fulton.html?tmpl=component">This event was imp
 orted from: https://iloveoswego.com/60066/holiday-craft-show-fulton.html?tm
 pl=component</a>DTSTAMP:20260422T015255
DTSTART;TZID=America/New_York:20251116T110000
DTEND;TZID=America/New_York:20251116T160000
SEQUENCE:0
TRANSP:OPAQUE
END:VEVENT
END:VCALENDAR