BEGIN:VCALENDAR
VERSION:2.0
PRODID:-//jEvents 2.0 for Joomla//EN
CALSCALE:GREGORIAN
METHOD:PUBLISH
BEGIN:VTIMEZONE
TZID:America/New_York
BEGIN:STANDARD
DTSTART:20241209T130000
RDATE:20250309T030000
TZOFFSETFROM:-0400
TZOFFSETTO:-0500
TZNAME:America/New_York EST
END:STANDARD
BEGIN:STANDARD
DTSTART:20251102T010000
RDATE:20260308T030000
TZOFFSETFROM:-0400
TZOFFSETTO:-0500
TZNAME:America/New_York EST
END:STANDARD
BEGIN:STANDARD
DTSTART:20261101T010000
RDATE:20270314T030000
TZOFFSETFROM:-0400
TZOFFSETTO:-0500
TZNAME:America/New_York EST
END:STANDARD
BEGIN:DAYLIGHT
DTSTART:20250309T030000
RDATE:20251102T010000
TZOFFSETFROM:-0500
TZOFFSETTO:-0400
TZNAME:America/New_York EDT
END:DAYLIGHT
BEGIN:DAYLIGHT
DTSTART:20260308T030000
RDATE:20261101T010000
TZOFFSETFROM:-0500
TZOFFSETTO:-0400
TZNAME:America/New_York EDT
END:DAYLIGHT
END:VTIMEZONE
BEGIN:VEVENT
UID:b168ea4ee9eefb68a91d2ae46b385cde
CATEGORIES:Health
CREATED:20251028T095700
SUMMARY:Default - Sound Bath by Peaceful Remedies
LOCATION:North Coast Yoga
URL;VALUE=URI:https://iloveoswego.com/60084/sound-bath-by-peaceful-remedies.html?tmpl=com
 ponent
DESCRIPTION:<p>A sound bath is a meditative experience where you are bathed in sound wa
 ves. These waves are produced by healing instruments such as gongs, singing
  bowls, percussion, chimes, rattles, tuning forks, and the human voice itse
 lf. Benefits include feeling calmer and less stressed, muscles that feel lo
 oser, a greater sense of relaxation, pain relief, the ability to sleep bett
 er, improved mood, boosting the immune system and being more in tune with y
 our body.&nbsp;</p><p>Tips for making the most of your session:</p><p pagec
 loud-lm="desktop" data-alt-style="line-height: 1.5; margin-bottom: 0.7em; m
 argin-left: 10px;" pagecloud-guid="c407bf8c-61a6-4c21-e1db-e5c75003dba5">- 
 Wear comfortable clothes</p><p pagecloud-lm="desktop" data-alt-style="line-
 height: 1.5; margin-bottom: 0.7em; margin-left: 10px;" pagecloud-guid="c508
 e19e-8a2c-4f21-a2c2-68e89da40c5f">- Bring any of your own props that will m
 ake you comfortable, though props will also be provided</p><p pagecloud-lm=
 "desktop" data-alt-style="line-height: 1.5; margin-bottom: 0.7em; margin-le
 ft: 10px;" pagecloud-guid="c7ea5889-3275-45ad-d5e3-cee924025328">- Be prepa
 red for sessions to last 45 - 60 minutes</p><p><a href="https://www.peacefu
 lremediesoswego.com/soundbath">Registration is recommended.</a></p> <a href
 ="https://iloveoswego.com/60084/sound-bath-by-peaceful-remedies.html?tmpl=c
 omponent">This event was imported from: https://iloveoswego.com/60084/sound
 -bath-by-peaceful-remedies.html?tmpl=component</a>DTSTAMP:20260423T113435
DTSTART;TZID=America/New_York:20251210T130000
SEQUENCE:0
TRANSP:OPAQUE
END:VEVENT
END:VCALENDAR