BEGIN:VCALENDAR
VERSION:2.0
PRODID:-//jEvents 2.0 for Joomla//EN
CALSCALE:GREGORIAN
METHOD:PUBLISH
BEGIN:VTIMEZONE
TZID:America/New_York
BEGIN:STANDARD
DTSTART:20241103T180000
RDATE:20250309T030000
TZOFFSETFROM:-0400
TZOFFSETTO:-0500
TZNAME:America/New_York EST
END:STANDARD
BEGIN:STANDARD
DTSTART:20251102T010000
RDATE:20260308T030000
TZOFFSETFROM:-0400
TZOFFSETTO:-0500
TZNAME:America/New_York EST
END:STANDARD
BEGIN:STANDARD
DTSTART:20261101T010000
RDATE:20270314T030000
TZOFFSETFROM:-0400
TZOFFSETTO:-0500
TZNAME:America/New_York EST
END:STANDARD
BEGIN:DAYLIGHT
DTSTART:20250309T030000
RDATE:20251102T010000
TZOFFSETFROM:-0500
TZOFFSETTO:-0400
TZNAME:America/New_York EDT
END:DAYLIGHT
BEGIN:DAYLIGHT
DTSTART:20260308T030000
RDATE:20261101T010000
TZOFFSETFROM:-0500
TZOFFSETTO:-0400
TZNAME:America/New_York EDT
END:DAYLIGHT
END:VTIMEZONE
BEGIN:VEVENT
UID:b89b7b802d59758d4c88611921517c1b
CATEGORIES:Community, Family and Kids, Free
CREATED:20251029T113525
SUMMARY:Default - New Haven PTC Meeting
LOCATION:New Haven Elementary School
URL;VALUE=URI:https://iloveoswego.com/60091/new-haven-ptc-meeting.html?tmpl=component
DESCRIPTION:<p>Join us for our next meeting! We will be meeting in the cafeteria at New
  Haven Elementary! Kiddos are welcome!</p> <a href="https://iloveoswego.com
 /60091/new-haven-ptc-meeting.html?tmpl=component">This event was imported f
 rom: https://iloveoswego.com/60091/new-haven-ptc-meeting.html?tmpl=componen
 t</a>DTSTAMP:20260422T231812
DTSTART;TZID=America/New_York:20251104T180000
SEQUENCE:0
TRANSP:OPAQUE
END:VEVENT
END:VCALENDAR