BEGIN:VCALENDAR
VERSION:2.0
PRODID:-//jEvents 2.0 for Joomla//EN
CALSCALE:GREGORIAN
METHOD:PUBLISH
BEGIN:VTIMEZONE
TZID:America/New_York
BEGIN:STANDARD
DTSTART:20241121T100000
RDATE:20250309T030000
TZOFFSETFROM:-0400
TZOFFSETTO:-0500
TZNAME:America/New_York EST
END:STANDARD
BEGIN:STANDARD
DTSTART:20251102T010000
RDATE:20260308T030000
TZOFFSETFROM:-0400
TZOFFSETTO:-0500
TZNAME:America/New_York EST
END:STANDARD
BEGIN:STANDARD
DTSTART:20261101T010000
RDATE:20270314T030000
TZOFFSETFROM:-0400
TZOFFSETTO:-0500
TZNAME:America/New_York EST
END:STANDARD
BEGIN:DAYLIGHT
DTSTART:20250309T030000
RDATE:20251102T010000
TZOFFSETFROM:-0500
TZOFFSETTO:-0400
TZNAME:America/New_York EDT
END:DAYLIGHT
BEGIN:DAYLIGHT
DTSTART:20260308T030000
RDATE:20261101T010000
TZOFFSETFROM:-0500
TZOFFSETTO:-0400
TZNAME:America/New_York EDT
END:DAYLIGHT
END:VTIMEZONE
BEGIN:VEVENT
UID:5c167f75eb6c1db0c7ea0d9f43a597c4
CATEGORIES:Community, Frontpage Events
CREATED:20251030T145831
SUMMARY:Default - 2025 Scriba Christmas Project Application
LOCATION:Scriba Municipal Building
URL;VALUE=URI:https://iloveoswego.com/60093/2025-scriba-christmas-project-application.htm
 l?tmpl=component
DESCRIPTION:2025 Scriba Christmas Project Application\nThe Scriba Christmas Project, us
 ing donations from local businesses and individuals, provides a box of food
  for disadvantaged Scriba residents and Christmas gifts for their young chi
 ldren (ages 12 and under).\nApplications for 2025 will be taken at the Scri
 ba Municipal Building on Creamery Road in the Town of Scriba on ONLY the fo
 llowing two dates:\nSaturday, November 22 from 10 a.m. to 2 p.m.\nMonday, N
 ovember 24 from 3 p.m. to 5 p.m.\n\nApplicants must apply in person. Inform
 ation supplied to project volunteers will be maintained in strict confidenc
 e.\n\nApplicants must be able to provide all of the following: a valid NYS 
 driver’s license or equivalent ID, a recent bill displaying a current Scrib
 a address, and a positive ID for each household member (birth certificate, 
 driver’s license, etc.)\n\nFor further information, please call either (315
 -342-2081) or (315-342-4847) or (315-343-6642).\n This event was imported f
 rom: https://iloveoswego.com/60093/2025-scriba-christmas-project-applicatio
 n.html?tmpl=component (https://iloveoswego.com/60093/2025-scriba-christmas-
 project-application.html?tmpl=component)
X-ALT-DESC;FMTTYPE=text/html:<p>2025 Scriba Christmas Project Application<br />The Scriba Christmas Proj
 ect, using donations from local businesses and individuals, provides a box 
 of food for disadvantaged Scriba residents and Christmas gifts for their yo
 ung children (ages 12 and under).<br />Applications for 2025 will be taken 
 at the Scriba Municipal Building on Creamery Road in the Town of Scriba on 
 ONLY the following two dates:<br />Saturday, November 22 from 10 a.m. to 2 
 p.m.<br />Monday, November 24 from 3 p.m. to 5 p.m.<br /><br />Applicants m
 ust apply in person. Information supplied to project volunteers will be mai
 ntained in strict confidence.<br /><br />Applicants must be able to provide
  all of the following: a valid NYS driver’s license or equivalent ID, a rec
 ent bill displaying a current Scriba address, and a positive ID for each ho
 usehold member (birth certificate, driver’s license, etc.)<br /><br />For f
 urther information, please call either (315-342-2081) or (315-342-4847) or 
 (315-343-6642).</p> <a href="https://iloveoswego.com/60093/2025-scriba-chri
 stmas-project-application.html?tmpl=component">This event was imported from
 : https://iloveoswego.com/60093/2025-scriba-christmas-project-application.h
 tml?tmpl=component</a>DTSTAMP:20260426T013138
DTSTART;TZID=America/New_York:20251122T100000
DTEND;TZID=America/New_York:20251122T140000
SEQUENCE:0
TRANSP:OPAQUE
END:VEVENT
END:VCALENDAR