BEGIN:VCALENDAR
VERSION:2.0
PRODID:-//jEvents 2.0 for Joomla//EN
CALSCALE:GREGORIAN
METHOD:PUBLISH
BEGIN:VTIMEZONE
TZID:America/New_York
BEGIN:STANDARD
DTSTART:20241113T180000
RDATE:20250309T030000
TZOFFSETFROM:-0400
TZOFFSETTO:-0500
TZNAME:America/New_York EST
END:STANDARD
BEGIN:STANDARD
DTSTART:20251102T010000
RDATE:20260308T030000
TZOFFSETFROM:-0400
TZOFFSETTO:-0500
TZNAME:America/New_York EST
END:STANDARD
BEGIN:STANDARD
DTSTART:20261101T010000
RDATE:20270314T030000
TZOFFSETFROM:-0400
TZOFFSETTO:-0500
TZNAME:America/New_York EST
END:STANDARD
BEGIN:DAYLIGHT
DTSTART:20250309T030000
RDATE:20251102T010000
TZOFFSETFROM:-0500
TZOFFSETTO:-0400
TZNAME:America/New_York EDT
END:DAYLIGHT
BEGIN:DAYLIGHT
DTSTART:20260308T030000
RDATE:20261101T010000
TZOFFSETFROM:-0500
TZOFFSETTO:-0400
TZNAME:America/New_York EDT
END:DAYLIGHT
END:VTIMEZONE
BEGIN:VEVENT
UID:132932d9933264ae6f57fa3dfb2d667e
CATEGORIES:Benefits and Fundraisers, Frontpage Events, Food & Drink
CREATED:20251031T012343
SUMMARY:Default - Giving Thanks for OCO
LOCATION:Lake Ontario Conference Center
URL;VALUE=URI:https://iloveoswego.com/60137/giving-thanks-for-oco.html?tmpl=component
DESCRIPTION:The event features a variety of delicacies and beverages from some of the a
 reas favorite restaurants, eateries and food trucks.\nFor more information 
 of OCO’s Giving Thanks Food and Beverage Pairing celebration, including tic
 ket information and sponsorship opportunities, or to donate an item to the 
 Upcycled Art Auction, visit www.oco.org (http://www.oco.org) or contact Bri
 dget Dolbear at 315-598-4717 ext. 1082 or via email at bdolbear@oco.org (ma
 ilto:bdolbear@oco.org).\n This event was imported from: https://iloveoswego
 .com/60137/giving-thanks-for-oco.html?tmpl=component
X-ALT-DESC;FMTTYPE=text/html:<p>The event features a variety of delicacies and beverages from some of th
 e areas favorite restaurants, eateries and food trucks.</p><p>For more info
 rmation of OCO’s Giving Thanks Food and Beverage Pairing celebration, inclu
 ding ticket information and sponsorship opportunities, or to donate an item
  to the Upcycled Art Auction, visit <a href="http://www.oco.org">www.oco.or
 g</a> or contact Bridget Dolbear at 315-598-4717 ext. 1082 or via email at 
 <a href="mailto:bdolbear@oco.org">bdolbear@oco.org</a>.</p> <a href="https:
 //iloveoswego.com/60137/giving-thanks-for-oco.html?tmpl=component">This eve
 nt was imported from: https://iloveoswego.com/60137/giving-thanks-for-oco.h
 tml?tmpl=component</a>DTSTAMP:20260423T034500
DTSTART;TZID=America/New_York:20251114T180000
DTEND;TZID=America/New_York:20251114T210000
SEQUENCE:0
TRANSP:OPAQUE
END:VEVENT
END:VCALENDAR