BEGIN:VCALENDAR
VERSION:2.0
PRODID:-//jEvents 2.0 for Joomla//EN
CALSCALE:GREGORIAN
METHOD:PUBLISH
BEGIN:VTIMEZONE
TZID:America/New_York
BEGIN:STANDARD
DTSTART:20241206T140000
RDATE:20250309T030000
TZOFFSETFROM:-0400
TZOFFSETTO:-0500
TZNAME:America/New_York EST
END:STANDARD
BEGIN:STANDARD
DTSTART:20251102T010000
RDATE:20260308T030000
TZOFFSETFROM:-0400
TZOFFSETTO:-0500
TZNAME:America/New_York EST
END:STANDARD
BEGIN:STANDARD
DTSTART:20261101T010000
RDATE:20270314T030000
TZOFFSETFROM:-0400
TZOFFSETTO:-0500
TZNAME:America/New_York EST
END:STANDARD
BEGIN:DAYLIGHT
DTSTART:20250309T030000
RDATE:20251102T010000
TZOFFSETFROM:-0500
TZOFFSETTO:-0400
TZNAME:America/New_York EDT
END:DAYLIGHT
BEGIN:DAYLIGHT
DTSTART:20260308T030000
RDATE:20261101T010000
TZOFFSETFROM:-0500
TZOFFSETTO:-0400
TZNAME:America/New_York EDT
END:DAYLIGHT
END:VTIMEZONE
BEGIN:VEVENT
UID:6e276adae4216d59372b2f742dabb407
CATEGORIES:Family and Kids
CREATED:20251111T150830
SUMMARY:Default - Holiday Donkey Days with Brayhope Farm
LOCATION:CountryMax
URL;VALUE=URI:https://iloveoswego.com/60335/holiday-donkey-days-with-brayhope-farm.html?t
 mpl=component
DESCRIPTION:Bring the family to meet Brayhope’s donkeys in a holiday-themed photo pen, 
 then stick around for farm games, trivia, and candy cane rewards. Make Chri
 stmas cards for the donkeys and volunteers while enjoying sweets, hot cocoa
 , and a chance to support Brayhope Farm. <a href="https://iloveoswego.com/6
 0335/holiday-donkey-days-with-brayhope-farm.html?tmpl=component">This event
  was imported from: https://iloveoswego.com/60335/holiday-donkey-days-with-
 brayhope-farm.html?tmpl=component</a>DTSTAMP:20260423T073524
DTSTART;TZID=America/New_York:20251207T140000
DTEND;TZID=America/New_York:20251207T160000
SEQUENCE:0
TRANSP:OPAQUE
END:VEVENT
END:VCALENDAR