BEGIN:VCALENDAR
VERSION:2.0
PRODID:-//jEvents 2.0 for Joomla//EN
CALSCALE:GREGORIAN
METHOD:PUBLISH
BEGIN:VTIMEZONE
TZID:America/New_York
BEGIN:STANDARD
DTSTART:20241128T100000
RDATE:20250309T030000
TZOFFSETFROM:-0400
TZOFFSETTO:-0500
TZNAME:America/New_York EST
END:STANDARD
BEGIN:STANDARD
DTSTART:20251102T010000
RDATE:20260308T030000
TZOFFSETFROM:-0400
TZOFFSETTO:-0500
TZNAME:America/New_York EST
END:STANDARD
BEGIN:STANDARD
DTSTART:20261101T010000
RDATE:20270314T030000
TZOFFSETFROM:-0400
TZOFFSETTO:-0500
TZNAME:America/New_York EST
END:STANDARD
BEGIN:DAYLIGHT
DTSTART:20250309T030000
RDATE:20251102T010000
TZOFFSETFROM:-0500
TZOFFSETTO:-0400
TZNAME:America/New_York EDT
END:DAYLIGHT
BEGIN:DAYLIGHT
DTSTART:20260308T030000
RDATE:20261101T010000
TZOFFSETFROM:-0500
TZOFFSETTO:-0400
TZNAME:America/New_York EDT
END:DAYLIGHT
END:VTIMEZONE
BEGIN:VEVENT
UID:30b68e8c4fd985f622095105cf3176ac
CATEGORIES:Shopping
CREATED:19691231T190000
SUMMARY:Default - Fair Haven Community Shop Small 
URL;VALUE=URI:https://iloveoswego.com/60375/fair-haven-community-shop-small.html?tmpl=com
 ponent
DESCRIPTION:Shop Small Saturday – Saturday, November 29th!\nThis is your chance to make
  a big impact! Support your local businesses—those who are here for you, ev
 ery day—by shopping small this Saturday. These passionate entrepreneurs wor
 k tirelessly to bring unique products, great services, and a special touch 
 to our community.\nJoin us in celebrating and uplifting our local shops! Ev
 ery purchase helps strengthen our neighborhood, create jobs, and keep the s
 pirit of community alive.\nMark your calendars, spread the word, and shop s
 mall—because together, we can make a difference!\nBring a Food Pantry Donat
 ion to participating businesses and receive a 10% off coupon goo on 1 item.
 \n This event was imported from: https://iloveoswego.com/60375/fair-haven-c
 ommunity-shop-small.html?tmpl=component (https://iloveoswego.com/60375/fair
 -haven-community-shop-small.html?tmpl=component)
X-ALT-DESC;FMTTYPE=text/html:<p>Shop Small Saturday – Saturday, November 29th!</p><p>This is your chance
  to make a big impact! Support your local businesses—those who are here for
  you, every day—by shopping small this Saturday. These passionate entrepren
 eurs work tirelessly to bring unique products, great services, and a specia
 l touch to our community.</p><p>Join us in celebrating and uplifting our lo
 cal shops! Every purchase helps strengthen our neighborhood, create jobs, a
 nd keep the spirit of community alive.</p><p>Mark your calendars, spread th
 e word, and shop small—because together, we can make a difference!</p><p>Br
 ing a Food Pantry Donation to participating businesses and receive a 10% of
 f coupon goo on 1 item.</p> <a href="https://iloveoswego.com/60375/fair-hav
 en-community-shop-small.html?tmpl=component">This event was imported from: 
 https://iloveoswego.com/60375/fair-haven-community-shop-small.html?tmpl=com
 ponent</a>DTSTAMP:20260423T112322
DTSTART;TZID=America/New_York:20251129T100000
DTEND;TZID=America/New_York:20251129T170000
SEQUENCE:0
RRULE:FREQ=DAILY;UNTIL=20251201T000000Z;INTERVAL=1
TRANSP:OPAQUE
END:VEVENT
END:VCALENDAR