BEGIN:VCALENDAR
VERSION:2.0
PRODID:-//jEvents 2.0 for Joomla//EN
CALSCALE:GREGORIAN
METHOD:PUBLISH
BEGIN:VTIMEZONE
TZID:America/New_York
BEGIN:STANDARD
DTSTART:20241120T193000
RDATE:20250309T030000
TZOFFSETFROM:-0400
TZOFFSETTO:-0500
TZNAME:America/New_York EST
END:STANDARD
BEGIN:STANDARD
DTSTART:20251102T010000
RDATE:20260308T030000
TZOFFSETFROM:-0400
TZOFFSETTO:-0500
TZNAME:America/New_York EST
END:STANDARD
BEGIN:STANDARD
DTSTART:20261101T010000
RDATE:20270314T030000
TZOFFSETFROM:-0400
TZOFFSETTO:-0500
TZNAME:America/New_York EST
END:STANDARD
BEGIN:DAYLIGHT
DTSTART:20250309T030000
RDATE:20251102T010000
TZOFFSETFROM:-0500
TZOFFSETTO:-0400
TZNAME:America/New_York EDT
END:DAYLIGHT
BEGIN:DAYLIGHT
DTSTART:20260308T030000
RDATE:20261101T010000
TZOFFSETFROM:-0500
TZOFFSETTO:-0400
TZNAME:America/New_York EDT
END:DAYLIGHT
END:VTIMEZONE
BEGIN:VEVENT
UID:c44e2f41b03a1139e97f9010d39d4792
CATEGORIES:Music & Performances
CREATED:20251118T155242
SUMMARY:Default - Actual Proof Jazz by the Lake
URL;VALUE=URI:https://iloveoswego.com/70503/actual-proof-jazz-by-the-lake.html?tmpl=compo
 nent
DESCRIPTION:Saxophonist/Flautist Brian Scherer, Bassist Ronnie France, Guitarist Rick B
 alestra, Keyboardist Ed Vivenzio, Drummer Evan DuChene. Five amazing artist
 s who share a common vision and sensibility for contemporary jazz.  Curated
  by David Kaspar. Wheelchair accessible. Doors open at 7pm. Snacks/door tic
 kets cash/check only. Visit website for online tickets. Or purchase at the 
 rivers end Bookstore, 19 W. Bridge St., Oswego.\n\nOswego Music Hall, 41 La
 ke St., Oswego, NY  This event was imported from: https://iloveoswego.com/7
 0503/actual-proof-jazz-by-the-lake.html?tmpl=component (https://iloveoswego
 .com/70503/actual-proof-jazz-by-the-lake.html?tmpl=component)
X-ALT-DESC;FMTTYPE=text/html:Saxophonist/Flautist Brian Scherer, Bassist Ronnie France, Guitarist Rick B
 alestra, Keyboardist Ed Vivenzio, Drummer Evan DuChene. Five amazing artist
 s who share a common vision and sensibility for contemporary jazz.  Curated
  by David Kaspar. Wheelchair accessible. Doors open at 7pm. Snacks/door tic
 kets cash/check only. Visit website for online tickets. Or purchase at the 
 rivers end Bookstore, 19 W. Bridge St., Oswego.<br /><br />Oswego Music Hal
 l, 41 Lake St., Oswego, NY  <a href="https://iloveoswego.com/70503/actual-p
 roof-jazz-by-the-lake.html?tmpl=component">This event was imported from: ht
 tps://iloveoswego.com/70503/actual-proof-jazz-by-the-lake.html?tmpl=compone
 nt</a>DTSTAMP:20260421T231840
DTSTART;TZID=America/New_York:20251121T193000
DTEND;TZID=America/New_York:20251121T220000
SEQUENCE:0
TRANSP:OPAQUE
END:VEVENT
END:VCALENDAR