BEGIN:VCALENDAR
VERSION:2.0
PRODID:-//jEvents 2.0 for Joomla//EN
CALSCALE:GREGORIAN
METHOD:PUBLISH
BEGIN:VTIMEZONE
TZID:America/New_York
BEGIN:STANDARD
DTSTART:20241223T170000
RDATE:20250309T030000
TZOFFSETFROM:-0400
TZOFFSETTO:-0500
TZNAME:America/New_York EST
END:STANDARD
BEGIN:STANDARD
DTSTART:20251102T010000
RDATE:20260308T030000
TZOFFSETFROM:-0400
TZOFFSETTO:-0500
TZNAME:America/New_York EST
END:STANDARD
BEGIN:STANDARD
DTSTART:20261101T010000
RDATE:20270314T030000
TZOFFSETFROM:-0400
TZOFFSETTO:-0500
TZNAME:America/New_York EST
END:STANDARD
BEGIN:DAYLIGHT
DTSTART:20250309T030000
RDATE:20251102T010000
TZOFFSETFROM:-0500
TZOFFSETTO:-0400
TZNAME:America/New_York EDT
END:DAYLIGHT
BEGIN:DAYLIGHT
DTSTART:20260308T030000
RDATE:20261101T010000
TZOFFSETFROM:-0500
TZOFFSETTO:-0400
TZNAME:America/New_York EDT
END:DAYLIGHT
END:VTIMEZONE
BEGIN:VEVENT
UID:e7e430d31ec25bd4b8fbf8e86c591e21
CATEGORIES:Faith-Based Events, Frontpage Events
CREATED:20251130T154910
SUMMARY:Default - Christmas Eve Service @ Oswego Alliance
LOCATION:Oswego Alliance Church
URL;VALUE=URI:https://iloveoswego.com/70613/christmas-eve-service-oswego-alliance.html?tm
 pl=component
DESCRIPTION:Whether you’ve been to church a hundred times or never at all, you’re welco
 me. It’s a night of music, hope, and togetherness. Join us!\n This event wa
 s imported from: https://iloveoswego.com/70613/christmas-eve-service-oswego
 -alliance.html?tmpl=component
X-ALT-DESC;FMTTYPE=text/html:<p>Whether you’ve been to church a hundred times or never at all, you’re we
 lcome. It’s a night of music, hope, and togetherness. Join us!</p> <a href=
 "https://iloveoswego.com/70613/christmas-eve-service-oswego-alliance.html?t
 mpl=component">This event was imported from: https://iloveoswego.com/70613/
 christmas-eve-service-oswego-alliance.html?tmpl=component</a>DTSTAMP:20260426T034439
DTSTART;TZID=America/New_York:20251224T170000
SEQUENCE:0
TRANSP:OPAQUE
END:VEVENT
END:VCALENDAR