BEGIN:VCALENDAR
VERSION:2.0
PRODID:-//jEvents 2.0 for Joomla//EN
CALSCALE:GREGORIAN
METHOD:PUBLISH
BEGIN:VTIMEZONE
TZID:America/New_York
BEGIN:STANDARD
DTSTART:20250112T183000
RDATE:20250309T030000
TZOFFSETFROM:-0400
TZOFFSETTO:-0500
TZNAME:America/New_York EST
END:STANDARD
BEGIN:STANDARD
DTSTART:20251102T010000
RDATE:20260308T030000
TZOFFSETFROM:-0400
TZOFFSETTO:-0500
TZNAME:America/New_York EST
END:STANDARD
BEGIN:STANDARD
DTSTART:20261101T010000
RDATE:20270314T030000
TZOFFSETFROM:-0400
TZOFFSETTO:-0500
TZNAME:America/New_York EST
END:STANDARD
BEGIN:DAYLIGHT
DTSTART:20250309T030000
RDATE:20251102T010000
TZOFFSETFROM:-0500
TZOFFSETTO:-0400
TZNAME:America/New_York EDT
END:DAYLIGHT
BEGIN:DAYLIGHT
DTSTART:20260308T030000
RDATE:20261101T010000
TZOFFSETFROM:-0500
TZOFFSETTO:-0400
TZNAME:America/New_York EDT
END:DAYLIGHT
END:VTIMEZONE
BEGIN:VEVENT
UID:21147712f5f3e63af491aaf6fb5728c8
CATEGORIES:Community
CREATED:19691231T190000
SUMMARY:Default - GriefShare
LOCATION:New Covenant Community Church\n51 E. Oneida St.\nOswego\nNY\n13126\nUSA\n31
 5-343-4981\nhttps://newccc.org/home/ (https://newccc.org/home/)
URL;VALUE=URI:https://iloveoswego.com/70869/griefshare.html?tmpl=component
DESCRIPTION: Grief &amp; Loss Support Group This event was imported from: https://ilove
 oswego.com/70869/griefshare.html?tmpl=component (https://iloveoswego.com/70
 869/griefshare.html?tmpl=component)
X-ALT-DESC;FMTTYPE=text/html: Grief & Loss Support Group <a href="https://iloveoswego.com/70869/griefsha
 re.html?tmpl=component">This event was imported from: https://iloveoswego.c
 om/70869/griefshare.html?tmpl=component</a>DTSTAMP:20260419T135853
DTSTART;TZID=America/New_York:20260113T183000
DTEND;TZID=America/New_York:20260113T200000
SEQUENCE:0
RRULE:FREQ=WEEKLY;UNTIL=20260401T000000Z;INTERVAL=1;BYDAY=TU
TRANSP:OPAQUE
END:VEVENT
END:VCALENDAR