BEGIN:VCALENDAR
VERSION:2.0
PRODID:-//jEvents 2.0 for Joomla//EN
CALSCALE:GREGORIAN
METHOD:PUBLISH
BEGIN:VTIMEZONE
TZID:America/New_York
BEGIN:STANDARD
DTSTART:20250216T080000
RDATE:20250309T030000
TZOFFSETFROM:-0400
TZOFFSETTO:-0500
TZNAME:America/New_York EST
END:STANDARD
BEGIN:STANDARD
DTSTART:20251102T010000
RDATE:20260308T030000
TZOFFSETFROM:-0400
TZOFFSETTO:-0500
TZNAME:America/New_York EST
END:STANDARD
BEGIN:STANDARD
DTSTART:20261101T010000
RDATE:20270314T030000
TZOFFSETFROM:-0400
TZOFFSETTO:-0500
TZNAME:America/New_York EST
END:STANDARD
BEGIN:DAYLIGHT
DTSTART:20250309T030000
RDATE:20251102T010000
TZOFFSETFROM:-0500
TZOFFSETTO:-0400
TZNAME:America/New_York EDT
END:DAYLIGHT
BEGIN:DAYLIGHT
DTSTART:20260308T030000
RDATE:20261101T010000
TZOFFSETFROM:-0500
TZOFFSETTO:-0400
TZNAME:America/New_York EDT
END:DAYLIGHT
END:VTIMEZONE
BEGIN:VEVENT
UID:c03efc4048973eb9d68b8eaae14ea4a3
CATEGORIES:Family and Kids
CREATED:20260127T160211
SUMMARY:Default - SUNY Oswego Youth Program
LOCATION:Sheldon Hall @ SUNY Oswego
URL;VALUE=URI:https://iloveoswego.com/71009/suny-oswego-youth-program.html?tmpl=component
DESCRIPTION:https://ww1.oswego.edu/extended-learning/youth-programs\n\nThis program is 
 for children in Kindergarten through 5th grade.\n\nThere are a limited numb
 er of spots available. After your application has been received, you will r
 eceive an email regarding the participants standing (acceptance or waitlist
 ed).\n\nPayments for accepted applicants must be made 72 hours from the tim
 e of the acceptance email to keep your registration.\n\nThis program runs:\
 nMonday, 2/16/2026 - Friday, 2/20/2026  9:15 am to 3:45 pm\nFree Flexible D
 rop Off -  8:00 - 9:15 am\nFree Flexible Pick-Up - 3:45 - 5:00 pm\n \n\nCos
 t:\n$225.00\nOptional additional $55.00 to have lunch provided daily\n\nWe 
 are unable to offer scholarships for this week\n \n\nLocation: SUNY Oswego,
  Sheldon Hall, 301 Washington Blvd, Oswego \nDrop Off: Sheldon Hall Ballroo
 m (2nd Floor) \nPick Up: Sheldon Hall Ballroom (2nd Floor)  This event was 
 imported from: https://iloveoswego.com/71009/suny-oswego-youth-program.html
 ?tmpl=component
X-ALT-DESC;FMTTYPE=text/html:https://ww1.oswego.edu/extended-learning/youth-programs<br /><br />This pro
 gram is for children in Kindergarten through 5th grade.<br /><br />There ar
 e a limited number of spots available. After your application has been rece
 ived, you will receive an email regarding the participants standing (accept
 ance or waitlisted).<br /><br />Payments for accepted applicants must be ma
 de 72 hours from the time of the acceptance email to keep your registration
 .<br /><br />This program runs:<br />Monday, 2/16/2026 - Friday, 2/20/2026 
  9:15 am to 3:45 pm<br />Free Flexible Drop Off -  8:00 - 9:15 am<br />Free
  Flexible Pick-Up - 3:45 - 5:00 pm<br /> <br /><br />Cost:<br />$225.00<br 
 />Optional additional $55.00 to have lunch provided daily<br /><br />We are
  unable to offer scholarships for this week<br /> <br /><br />Location: SUN
 Y Oswego, Sheldon Hall, 301 Washington Blvd, Oswego <br />Drop Off: Sheldon
  Hall Ballroom (2nd Floor) <br />Pick Up: Sheldon Hall Ballroom (2nd Floor)
   <a href="https://iloveoswego.com/71009/suny-oswego-youth-program.html?tmp
 l=component">This event was imported from: https://iloveoswego.com/71009/su
 ny-oswego-youth-program.html?tmpl=component</a>DTSTAMP:20260424T062918
DTSTART;TZID=America/New_York:20260217T080000
DTEND;TZID=America/New_York:20260217T210000
SEQUENCE:0
TRANSP:OPAQUE
END:VEVENT
END:VCALENDAR