BEGIN:VCALENDAR
VERSION:2.0
PRODID:-//jEvents 2.0 for Joomla//EN
CALSCALE:GREGORIAN
METHOD:PUBLISH
BEGIN:VTIMEZONE
TZID:America/New_York
BEGIN:STANDARD
DTSTART:20251102T010000
RDATE:20260308T030000
TZOFFSETFROM:-0400
TZOFFSETTO:-0500
TZNAME:America/New_York EST
END:STANDARD
BEGIN:STANDARD
DTSTART:20261101T010000
RDATE:20270314T030000
TZOFFSETFROM:-0400
TZOFFSETTO:-0500
TZNAME:America/New_York EST
END:STANDARD
BEGIN:DAYLIGHT
DTSTART:20250328T130000
RDATE:20251102T010000
TZOFFSETFROM:-0500
TZOFFSETTO:-0400
TZNAME:America/New_York EDT
END:DAYLIGHT
BEGIN:DAYLIGHT
DTSTART:20260308T030000
RDATE:20261101T010000
TZOFFSETFROM:-0500
TZOFFSETTO:-0400
TZNAME:America/New_York EDT
END:DAYLIGHT
END:VTIMEZONE
BEGIN:VEVENT
UID:1b9473b4841303ec896ee4df44a6aa17
CATEGORIES:Culture and The Arts, Music & Performances, Frontpage Events
CREATED:20260204T220826
SUMMARY:Default - 2026 Oswego Music Hall of Fame Induction Ceremony
LOCATION:Curtis Manor
URL;VALUE=URI:https://iloveoswego.com/71120/2026-oswego-music-hall-of-fame-induction-cere
 mony.html?tmpl=component
DESCRIPTION:The Induction Ceremony will be hosted by two incredible emcees, Norman Berl
 in III and Bill “Fuzzy” Wiltsie. Pegasus will be awarded the Joseph P. Sper
 eno Hall of Fame Award for their accomplishments as a progressive rock band
 . This year’s second Joseph P. Spereno Hall of Fame Award will be awarded t
 o David McGrath for his accomplishments as a singer/songwriter. TG and The 
 Night Ryders will receive an entrainment award for their accomplishments as
  a soul/Motown band. Kickin’ Up Dust will also receive an entrainment award
  for their accomplishments as rock band.\nMore details about the inductees 
 are available in the related press release (https://iheartoswego.com/oswego
 -music-hall-of-fame-inc-announces-2026-award-inductees.html).\nTickets can 
 be purchased either by check or money order payable to Oswego Music Hall of
  Fame, Inc. to 94 Mariposa Dr., Oswego, NY 13126. Please include the number
  of tickets you’re purchasing and your name. If you would like to order tic
 kets, please contact Nancy Spereno at 315-480-3327 to confirm your payment 
 or for assistance.\n This event was imported from: https://iloveoswego.com/
 71120/2026-oswego-music-hall-of-fame-induction-ceremony.html?tmpl=component
X-ALT-DESC;FMTTYPE=text/html:<p>The Induction Ceremony will be hosted by two incredible emcees, Norman B
 erlin III and Bill “Fuzzy” Wiltsie. Pegasus will be awarded the Joseph P. S
 pereno Hall of Fame Award for their accomplishments as a progressive rock b
 and. This year’s second Joseph P. Spereno Hall of Fame Award will be awarde
 d to David McGrath for his accomplishments as a singer/songwriter. TG and T
 he Night Ryders will receive an entrainment award for their accomplishments
  as a soul/Motown band. Kickin’ Up Dust will also receive an entrainment aw
 ard for their accomplishments as rock band.</p><p>More details about the in
 ductees are available in <a href="https://iheartoswego.com/oswego-music-hal
 l-of-fame-inc-announces-2026-award-inductees.html">the related press releas
 e</a>.</p><p>Tickets can be purchased either by check or money order payabl
 e to Oswego Music Hall of Fame, Inc. to 94 Mariposa Dr., Oswego, NY 13126. 
 Please include the number of tickets you’re purchasing and your name. If yo
 u would like to order tickets, please contact Nancy Spereno at 315-480-3327
  to confirm your payment or for assistance.</p> <a href="https://iloveosweg
 o.com/71120/2026-oswego-music-hall-of-fame-induction-ceremony.html?tmpl=com
 ponent">This event was imported from: https://iloveoswego.com/71120/2026-os
 wego-music-hall-of-fame-induction-ceremony.html?tmpl=component</a>DTSTAMP:20260422T080129
DTSTART;TZID=America/New_York:20260329T130000
SEQUENCE:0
TRANSP:OPAQUE
END:VEVENT
END:VCALENDAR