BEGIN:VCALENDAR
VERSION:2.0
PRODID:-//jEvents 2.0 for Joomla//EN
CALSCALE:GREGORIAN
METHOD:PUBLISH
BEGIN:VTIMEZONE
TZID:America/New_York
BEGIN:STANDARD
DTSTART:20250123T190000
RDATE:20250309T030000
TZOFFSETFROM:-0400
TZOFFSETTO:-0500
TZNAME:America/New_York EST
END:STANDARD
BEGIN:STANDARD
DTSTART:20251102T010000
RDATE:20260308T030000
TZOFFSETFROM:-0400
TZOFFSETTO:-0500
TZNAME:America/New_York EST
END:STANDARD
BEGIN:STANDARD
DTSTART:20261101T010000
RDATE:20270314T030000
TZOFFSETFROM:-0400
TZOFFSETTO:-0500
TZNAME:America/New_York EST
END:STANDARD
BEGIN:DAYLIGHT
DTSTART:20250309T030000
RDATE:20251102T010000
TZOFFSETFROM:-0500
TZOFFSETTO:-0400
TZNAME:America/New_York EDT
END:DAYLIGHT
BEGIN:DAYLIGHT
DTSTART:20260308T030000
RDATE:20261101T010000
TZOFFSETFROM:-0500
TZOFFSETTO:-0400
TZNAME:America/New_York EDT
END:DAYLIGHT
END:VTIMEZONE
BEGIN:VEVENT
UID:eab7f99c7286d48e96384d68ecc3fcd5
CATEGORIES:Community
CREATED:20250605T154351
SUMMARY:Default - Bunco (Pulaski)
LOCATION:Bethel Community Center
URL;VALUE=URI:https://iloveoswego.com/58682/bunco-pulaski.html?tmpl=component
DESCRIPTION:<p>Everyone over 18 and older is welcome.</p><p>Fun game if you wish to lea
 rn; it’s easy, we will show you. Hope to see you there old and new faces. $
 10.00 each to play cash prize awarded at end of evening. Proceeds go to sup
 port the Bethel center.</p> <a href="https://iloveoswego.com/58682/bunco-pu
 laski.html?tmpl=component">This event was imported from: https://iloveosweg
 o.com/58682/bunco-pulaski.html?tmpl=component</a>DTSTAMP:20260419T184450
DTSTART;TZID=America/New_York:20260124T190000
SEQUENCE:0
TRANSP:OPAQUE
END:VEVENT
END:VCALENDAR