BEGIN:VCALENDAR
VERSION:2.0
PRODID:-//jEvents 2.0 for Joomla//EN
CALSCALE:GREGORIAN
METHOD:PUBLISH
BEGIN:VTIMEZONE
TZID:America/New_York
BEGIN:STANDARD
DTSTART:20241130T170000
RDATE:20250309T030000
TZOFFSETFROM:-0400
TZOFFSETTO:-0500
TZNAME:America/New_York EST
END:STANDARD
BEGIN:STANDARD
DTSTART:20251102T010000
RDATE:20260308T030000
TZOFFSETFROM:-0400
TZOFFSETTO:-0500
TZNAME:America/New_York EST
END:STANDARD
BEGIN:STANDARD
DTSTART:20261101T010000
RDATE:20270314T030000
TZOFFSETFROM:-0400
TZOFFSETTO:-0500
TZNAME:America/New_York EST
END:STANDARD
BEGIN:DAYLIGHT
DTSTART:20250309T030000
RDATE:20251102T010000
TZOFFSETFROM:-0500
TZOFFSETTO:-0400
TZNAME:America/New_York EDT
END:DAYLIGHT
BEGIN:DAYLIGHT
DTSTART:20260308T030000
RDATE:20261101T010000
TZOFFSETFROM:-0500
TZOFFSETTO:-0400
TZNAME:America/New_York EDT
END:DAYLIGHT
END:VTIMEZONE
BEGIN:VEVENT
UID:231bc499567d25dac345ed3111059b32
CATEGORIES:Community, Free, Outdoors
CREATED:20250828T121209
SUMMARY:Default - North Shore Indivisible Rally
LOCATION:Corner of Route 49 and Route 37
URL;VALUE=URI:https://iloveoswego.com/59529/north-shore-indivisible-rally.html?tmpl=compo
 nent
DESCRIPTION:For more information, please contact Kate and Brenda at North Shore Indivis
 ible: northshoreindivisible24@gmail.com (mailto:northshoreindivisible24@gma
 il.com).\n This event was imported from: https://iloveoswego.com/59529/nort
 h-shore-indivisible-rally.html?tmpl=component (https://iloveoswego.com/5952
 9/north-shore-indivisible-rally.html?tmpl=component)
X-ALT-DESC;FMTTYPE=text/html:<p>For more information, please contact Kate and Brenda at North Shore Indi
 visible:&nbsp;<a href="mailto:northshoreindivisible24@gmail.com">northshore
 indivisible24@gmail.com</a>.</p> <a href="https://iloveoswego.com/59529/nor
 th-shore-indivisible-rally.html?tmpl=component">This event was imported fro
 m: https://iloveoswego.com/59529/north-shore-indivisible-rally.html?tmpl=co
 mponent</a>DTSTAMP:20260419T153944
DTSTART;TZID=America/New_York:20251201T170000
SEQUENCE:0
TRANSP:OPAQUE
END:VEVENT
END:VCALENDAR