BEGIN:VCALENDAR
VERSION:2.0
PRODID:-//jEvents 2.0 for Joomla//EN
CALSCALE:GREGORIAN
METHOD:PUBLISH
BEGIN:VTIMEZONE
TZID:America/New_York
BEGIN:STANDARD
DTSTART:20241112T193000
RDATE:20250309T030000
TZOFFSETFROM:-0400
TZOFFSETTO:-0500
TZNAME:America/New_York EST
END:STANDARD
BEGIN:STANDARD
DTSTART:20251102T010000
RDATE:20260308T030000
TZOFFSETFROM:-0400
TZOFFSETTO:-0500
TZNAME:America/New_York EST
END:STANDARD
BEGIN:STANDARD
DTSTART:20261101T010000
RDATE:20270314T030000
TZOFFSETFROM:-0400
TZOFFSETTO:-0500
TZNAME:America/New_York EST
END:STANDARD
BEGIN:DAYLIGHT
DTSTART:20250309T030000
RDATE:20251102T010000
TZOFFSETFROM:-0500
TZOFFSETTO:-0400
TZNAME:America/New_York EDT
END:DAYLIGHT
BEGIN:DAYLIGHT
DTSTART:20260308T030000
RDATE:20261101T010000
TZOFFSETFROM:-0500
TZOFFSETTO:-0400
TZNAME:America/New_York EDT
END:DAYLIGHT
END:VTIMEZONE
BEGIN:VEVENT
UID:55a0ab7a873b6b40d7fbcb695cac6aa5
CATEGORIES:Community, Culture and The Arts, Music & Performances
CREATED:20251021T112209
SUMMARY:Default - The Grown Ups Production @ SUNY Oswego
LOCATION:Tyler Hall @ SUNY Oswego
URL;VALUE=URI:https://iloveoswego.com/60047/the-grown-ups-production-suny-oswego.html?tmp
 l=component
DESCRIPTION:Following a group of camp counselors trying to mold the leaders of tomorrow
  when tomorrow is looking bleaker and bleaker, "The Grown Ups" explores the
  traditions that change us, what it takes for us to change them, and how to
  change yourself when you're hopelessly, tragically, not prepared for this.
 \n\nWritten by Simon Henriques and Skylar Fox \nDirected by Ian Katz\n\nThe
  run time for this play is 100 minutes with no intermission. \n\nTickets fo
 r this performance can be purchased at: https://oswego.universitytickets.co
 m/w/event.aspx?id=9726&amp;p=1\n This event was imported from: https://ilov
 eoswego.com/60047/the-grown-ups-production-suny-oswego.html?tmpl=component 
 (https://iloveoswego.com/60047/the-grown-ups-production-suny-oswego.html?tm
 pl=component)
X-ALT-DESC;FMTTYPE=text/html:<p>Following a group of camp counselors trying to mold the leaders of tomor
 row when tomorrow is looking bleaker and bleaker, "The Grown Ups" explores 
 the traditions that change us, what it takes for us to change them, and how
  to change yourself when you're hopelessly, tragically, not prepared for th
 is.<br /><br />Written by Simon Henriques and Skylar Fox <br />Directed by 
 Ian Katz<br /><br />The run time for this play is 100 minutes with no inter
 mission. <br /><br />Tickets for this performance can be purchased at: http
 s://oswego.universitytickets.com/w/event.aspx?id=9726&amp;p=1</p> <a href="
 https://iloveoswego.com/60047/the-grown-ups-production-suny-oswego.html?tmp
 l=component">This event was imported from: https://iloveoswego.com/60047/th
 e-grown-ups-production-suny-oswego.html?tmpl=component</a>DTSTAMP:20260423T081100
DTSTART;TZID=America/New_York:20251113T193000
DTEND;TZID=America/New_York:20251113T210000
SEQUENCE:0
TRANSP:OPAQUE
END:VEVENT
END:VCALENDAR