BEGIN:VCALENDAR
VERSION:2.0
PRODID:-//jEvents 2.0 for Joomla//EN
CALSCALE:GREGORIAN
METHOD:PUBLISH
BEGIN:VTIMEZONE
TZID:America/New_York
BEGIN:STANDARD
DTSTART:20241107T193000
RDATE:20250309T030000
TZOFFSETFROM:-0400
TZOFFSETTO:-0500
TZNAME:America/New_York EST
END:STANDARD
BEGIN:STANDARD
DTSTART:20251102T010000
RDATE:20260308T030000
TZOFFSETFROM:-0400
TZOFFSETTO:-0500
TZNAME:America/New_York EST
END:STANDARD
BEGIN:STANDARD
DTSTART:20261101T010000
RDATE:20270314T030000
TZOFFSETFROM:-0400
TZOFFSETTO:-0500
TZNAME:America/New_York EST
END:STANDARD
BEGIN:DAYLIGHT
DTSTART:20250309T030000
RDATE:20251102T010000
TZOFFSETFROM:-0500
TZOFFSETTO:-0400
TZNAME:America/New_York EDT
END:DAYLIGHT
BEGIN:DAYLIGHT
DTSTART:20260308T030000
RDATE:20261101T010000
TZOFFSETFROM:-0500
TZOFFSETTO:-0400
TZNAME:America/New_York EDT
END:DAYLIGHT
END:VTIMEZONE
BEGIN:VEVENT
UID:380d8a13b3defa8b0665fbb5825749c6
CATEGORIES:Culture and The Arts, Music & Performances, Frontpage Events, Family and Kids
CREATED:20251031T012823
SUMMARY:Default - "The Importance of Being Earnest" (Phoenix)
LOCATION:John C. Birdlebough High School
URL;VALUE=URI:https://iloveoswego.com/60140/the-importance-of-being-earnest-phoenix.html?
 tmpl=component
DESCRIPTION:The Importance of Being Earnest is a witty and satirical comedy by Oscar Wi
 lde that explores themes of identity, social obligation, and the absurdity 
 of Victorian society. The story follows two young gentlemen, Jack Worthing 
 and Algernon Moncrieff, who both lead double lives to escape societal expec
 tations.\nTickets are $8 for adults and $5 for senior citizens and children
 /students under 18. All performances offer general admission seating.\nTick
 ets may be purchased in advance online at https://cur8.com/15362/project/13
 4350. Service fees apply for online orders, and tickets will be sent electr
 onically. Online ticket sales close three hours before each performance. Th
 is does not indicate a sellout; tickets will still be available for purchas
 e at the door for that date’s show.\nTo reserve or purchase tickets by emai
 l, contact Lspereno@phoenixcsd.org. (mailto:Lspereno@phoenixcsd.org.) Ticke
 ts will also be sold at the door (cash or check only).\n This event was imp
 orted from: https://iloveoswego.com/60140/the-importance-of-being-earnest-p
 hoenix.html?tmpl=component
X-ALT-DESC;FMTTYPE=text/html:<p><em>The Importance of Being Earnest</em> is a witty and satirical comedy
  by Oscar Wilde that explores themes of identity, social obligation, and th
 e absurdity of Victorian society. The story follows two young gentlemen, Ja
 ck Worthing and Algernon Moncrieff, who both lead double lives to escape so
 cietal expectations.</p><p>Tickets are $8 for adults and $5 for senior citi
 zens and children/students under 18. All performances offer general admissi
 on seating.</p><p>Tickets may be purchased in advance online at <a href="ht
 tps://cur8.com/15362/project/134350">https://cur8.com/15362/project/134350<
 /a>. Service fees apply for online orders, and tickets will be sent electro
 nically. Online ticket sales close three hours before each performance. Thi
 s does not indicate a sellout; tickets will still be available for purchase
  at the door for that date’s show.</p><p>To reserve or purchase tickets by 
 email, contact <a href="mailto:Lspereno@phoenixcsd.org.">Lspereno@phoenixcs
 d.org.</a> Tickets will also be sold at the door (cash or check only).</p> 
 <a href="https://iloveoswego.com/60140/the-importance-of-being-earnest-phoe
 nix.html?tmpl=component">This event was imported from: https://iloveoswego.
 com/60140/the-importance-of-being-earnest-phoenix.html?tmpl=component</a>DTSTAMP:20260422T210438
DTSTART;TZID=America/New_York:20251108T193000
SEQUENCE:0
TRANSP:OPAQUE
END:VEVENT
END:VCALENDAR