BEGIN:VCALENDAR
VERSION:2.0
PRODID:-//jEvents 2.0 for Joomla//EN
CALSCALE:GREGORIAN
METHOD:PUBLISH
BEGIN:VTIMEZONE
TZID:America/New_York
BEGIN:STANDARD
DTSTART:20241208T181500
RDATE:20250309T030000
TZOFFSETFROM:-0400
TZOFFSETTO:-0500
TZNAME:America/New_York EST
END:STANDARD
BEGIN:STANDARD
DTSTART:20251102T010000
RDATE:20260308T030000
TZOFFSETFROM:-0400
TZOFFSETTO:-0500
TZNAME:America/New_York EST
END:STANDARD
BEGIN:STANDARD
DTSTART:20261101T010000
RDATE:20270314T030000
TZOFFSETFROM:-0400
TZOFFSETTO:-0500
TZNAME:America/New_York EST
END:STANDARD
BEGIN:DAYLIGHT
DTSTART:20250309T030000
RDATE:20251102T010000
TZOFFSETFROM:-0500
TZOFFSETTO:-0400
TZNAME:America/New_York EDT
END:DAYLIGHT
BEGIN:DAYLIGHT
DTSTART:20260308T030000
RDATE:20261101T010000
TZOFFSETFROM:-0500
TZOFFSETTO:-0400
TZNAME:America/New_York EDT
END:DAYLIGHT
END:VTIMEZONE
BEGIN:VEVENT
UID:d02d8a59def759c57818a877c3bdc1ed
CATEGORIES:Family and Kids, Crafting
CREATED:20251102T100417
SUMMARY:Default - Prehistoric Planet Course by Oswego County 4-H (Registration Required)
LOCATION:Believers Chapel North
URL;VALUE=URI:https://iloveoswego.com/60143/prehistoric-planet-course-by-oswego-county-4-
 h-registration-required.html?tmpl=component
DESCRIPTION:Oswego County 4-H is thrilled to announce the return of its prehistoric edu
 cational series with Prehistoric Planet Part 2: Ice Age, a hands-on adventu
 re that transports youth back in time to explore the fascinating world of I
 ce Age creatures.\nThis program will be held at Believers' Chapel North, lo
 cated at 5375 State Route 3, Mexico, NY 13114, on Tuesdays, December 2, 9, 
 and 16, 2025 from 6:15 to 7:45 p.m. Youth ages 8 to 18 are invited to parti
 cipate in this engaging series filled with interactive activities and scien
 tific exploration.\nThe registration fee is $15 per youth, while enrolled O
 swego County 4-H members may attend for free. Space is limited, so early re
 gistration is encouraged. A parent or legal guardian must attend the first 
 session on December 2nd to complete required enrollment paperwork.\nTo regi
 ster, visit https://reg.cce.cornell.edu/PrehistoricPlanetIceAge25-2_235 (ht
 tps://reg.cce.cornell.edu/PrehistoricPlanetIceAge25-2_235).\n This event wa
 s imported from: https://iloveoswego.com/60143/prehistoric-planet-course-by
 -oswego-county-4-h-registration-required.html?tmpl=component
X-ALT-DESC;FMTTYPE=text/html:<p>Oswego County 4-H is thrilled to announce the return of its prehistoric 
 educational series with <strong>Prehistoric Planet Part 2: Ice Age</strong>
 , a hands-on adventure that transports youth back in time to explore the fa
 scinating world of Ice Age creatures.</p><p>This program will be held at <s
 trong>Believers' Chapel North</strong>, located at <strong>5375 State Route
  3, Mexico, NY 13114</strong>, on <strong>Tuesdays, December 2, 9, and 16</
 strong>, <strong>2025</strong> from <strong>6:15 to 7:45 p.m.</strong> Yout
 h ages <strong>8 to 18</strong> are invited to participate in this engaging
  series filled with interactive activities and scientific exploration.</p><
 p>The registration fee is <strong>$15 per youth</strong>, while <strong>enr
 olled Oswego County 4-H members may attend for free</strong>. Space is limi
 ted, so early registration is encouraged. A <strong>parent or legal guardia
 n must attend the first session on December 2nd</strong> to complete requir
 ed enrollment paperwork.</p><p>To register, visit <a href="https://reg.cce.
 cornell.edu/PrehistoricPlanetIceAge25-2_235">https://reg.cce.cornell.edu/Pr
 ehistoricPlanetIceAge25-2_235</a>.</p> <a href="https://iloveoswego.com/601
 43/prehistoric-planet-course-by-oswego-county-4-h-registration-required.htm
 l?tmpl=component">This event was imported from: https://iloveoswego.com/601
 43/prehistoric-planet-course-by-oswego-county-4-h-registration-required.htm
 l?tmpl=component</a>DTSTAMP:20260421T153308
DTSTART;TZID=America/New_York:20251209T181500
DTEND;TZID=America/New_York:20251209T194500
SEQUENCE:0
TRANSP:OPAQUE
END:VEVENT
END:VCALENDAR